Workbook

Sheet Top Line Rep
A1: DBDDA FISCAL YEAR 2026-2027 TOP LINE ADOPTED BUDGET REPORT
A2: 9.22.2026 | B2: ='A- Summary Inc_Ex'!C2 -> 0
B3: ='A- Summary Inc_Ex'!C3 -> APPROVED Amended Budget 2024_25 | C3: ='A- Summary Inc_Ex'!D3 -> Final FY 24_25 FYE | D3: ='A- Summary Inc_Ex'!E3 -> FY2025/26 ADOPTED BUDGET | E3: ='A- Summary Inc_Ex'!F3 -> Previous Year toDate 3/31/2025 | F3: ='A- Summary Inc_Ex'!G3 -> FY 25_26 to Date 3/31/2026 | G3: ='A- Summary Inc_Ex'!H3 -> Percentage of Adopted Budget | H3: ='A- Summary Inc_Ex'!O3 -> FY2025/26 AMENDED BUDGET | I3: Amount of Change | J3: Percentage of change | K3: FY 2026-2027 ADOPTED BUDGET
A5: REVENUES | K5: 1.0000 Millage Rate
A6: AD VALOREM TAXES | B6: ='A- Summary Inc_Ex'!C8 -> 1837361.6 | C6: ='A- Summary Inc_Ex'!D8 -> 1867364.1 | D6: ='A- Summary Inc_Ex'!E8 -> 2037980 | E6: ='A- Summary Inc_Ex'!F8 -> 1595598.9 | F6: ='A- Summary Inc_Ex'!G8 -> 1674739.4 | G6: ='A- Summary Inc_Ex'!H8 -> 0.82176437 | H6: ='A- Summary Inc_Ex'!O8 -> 2037980 | I6: 0 | J6: =(H6-D6)/D6 -> 0 | K6: ='A- Summary Inc_Ex'!S6 -> 2160703
A8: SPONSORSHIP RAISED | B8: ='A- Summary Inc_Ex'!C14 -> 81000 | C8: ='A- Summary Inc_Ex'!D14 -> 67280.16 | D8: ='A- Summary Inc_Ex'!E14 -> 44000 | E8: ='A- Summary Inc_Ex'!F14 -> 55828.57 | F8: ='A- Summary Inc_Ex'!G14 -> 34235.33 | G8: ='A- Summary Inc_Ex'!H14 -> 0.77807568 | H8: ='A- Summary Inc_Ex'!O14 -> 42500 | I8: =H8-D8 -> -1500 | J8: =(H8-D8)/D8 -> -0.034090909 | K8: ='A- Summary Inc_Ex'!S14 -> 50000
A10: TOTAL REVENUES | B10: ='A- Summary Inc_Ex'!C18 -> 1918361.6 | C10: ='A- Summary Inc_Ex'!D18 -> 2299700.3 | D10: ='A- Summary Inc_Ex'!E18 -> 2081980 | E10: ='A- Summary Inc_Ex'!F18 -> 1651427.5 | F10: ='A- Summary Inc_Ex'!G18 -> 1708974.7 | G10: ='A- Summary Inc_Ex'!H18 -> 0.82084107 | H10: =H8+H6 -> 2080480 | K10: =K8+K6 -> 2210703
A11: EXPENDITURE DEVELOPMENT DDA DISTRICT ECONOMY
A13: TOTAL MARKETING DDA DISTRICT | B13: ='A- Summary Inc_Ex'!C28 -> 252500 | C13: ='A- Summary Inc_Ex'!D28 -> 253340.87 | D13: ='A- Summary Inc_Ex'!E28 -> 254000 | E13: ='A- Summary Inc_Ex'!F28 -> 116496.51 | F13: ='A- Summary Inc_Ex'!G28 -> 126011.72 | G13: ='A- Summary Inc_Ex'!H28 -> 0.49610913 | H13: ='A- Summary Inc_Ex'!O28 -> 268100 | I13: =H13-D13 -> 14100 | J13: =(H13-D13)/D13 -> 0.055511811 | K13: ='A- Summary Inc_Ex'!S28 -> 265500
A15: ECONOMIC VITALITY / DEVELOPMENT | B15: ='A- Summary Inc_Ex'!C29 -> 227000 | C15: ='A- Summary Inc_Ex'!D29 -> 37986.91 | D15: ='A- Summary Inc_Ex'!E29 -> 262500 | E15: ='A- Summary Inc_Ex'!F29 -> 18250 | F15: ='A- Summary Inc_Ex'!G29 -> 23131 | G15: ='A- Summary Inc_Ex'!H29 -> 0.088118095 | H15: ='A- Summary Inc_Ex'!O29 -> 299500 | I15: =H15-D15 -> 37000 | J15: =(H15-D15)/D15 -> 0.14095238 | K15: ='A- Summary Inc_Ex'!S29 -> 291000
A17: PLACEMAKING/CLEAN AND SAFE | B17: ='A- Summary Inc_Ex'!C30 -> 526320 | C17: ='A- Summary Inc_Ex'!D30 -> 465307 | D17: ='A- Summary Inc_Ex'!E30 -> 597000 | E17: ='A- Summary Inc_Ex'!F30 -> 217884.19 | F17: ='A- Summary Inc_Ex'!G30 -> 257477.54 | G17: ='A- Summary Inc_Ex'!H30 -> 0.43128566 | H17: ='A- Summary Inc_Ex'!O30 -> 532000 | I17: =H17-D17 -> -65000 | J17: =(H17-D17)/D17 -> -0.10887772 | K17: ='A- Summary Inc_Ex'!S30 -> 555000
A19: TOTAL DDA DISTRICT GRANTS | B19: ='A- Summary Inc_Ex'!C33 -> 18000 | C19: ='A- Summary Inc_Ex'!D33 -> 8600 | D19: ='A- Summary Inc_Ex'!E33 -> 20000 | E19: ='A- Summary Inc_Ex'!F33 -> 6600 | F19: ='A- Summary Inc_Ex'!G33 -> 7695 | G19: ='A- Summary Inc_Ex'!H33 -> 0.38475 | H19: ='A- Summary Inc_Ex'!O33 -> 20000 | I19: =H19-D19 -> 0 | J19: =H19-D19 -> 0 | K19: ='A- Summary Inc_Ex'!S33 -> 18000
A21: TOTAL BUSINESS DEVELOPMENT | B21: ='A- Summary Inc_Ex'!C35 -> 1053820 | C21: ='A- Summary Inc_Ex'!D35 -> 765234.78 | D21: ='A- Summary Inc_Ex'!E35 -> 1133500 | E21: ='A- Summary Inc_Ex'!F35 -> 359230.7 | F21: ='A- Summary Inc_Ex'!G35 -> 414315.26 | G21: ='A- Summary Inc_Ex'!H35 -> 0.36551854 | H21: =H19+H17+H15+H13 -> 1119600 | I21: =H21-D21 -> -13900 | J21: =(H21-D21)/D21 -> -0.012262903 | K21: =K19+K17+K15+K13 -> 1129500
A23: Payroll Expenses | B23: ='A- Summary Inc_Ex'!C42 -> 576938.46 | C23: ='A- Summary Inc_Ex'!D42 -> 551461.45 | D23: ='A- Summary Inc_Ex'!E42 -> 611439.9 | E23: ='A- Summary Inc_Ex'!F42 -> 277604.26 | F23: ='A- Summary Inc_Ex'!G42 -> 273371.34 | G23: ='A- Summary Inc_Ex'!H42 -> 0.44709438 | H23: ='A- Summary Inc_Ex'!O42 -> 611439.9 | I23: =H23-D23 -> 0 | J23: =(H23-D23)/D23 -> 0 | K23: ='A- Summary Inc_Ex'!S42 -> 715370
A25: Operational Expenses | B25: ='A- Summary Inc_Ex'!C51 -> 131884 | C25: ='A- Summary Inc_Ex'!D51 -> 158843.17 | D25: ='A- Summary Inc_Ex'!E51 -> 188850 | E25: ='A- Summary Inc_Ex'!F51 -> 87003.91 | F25: ='A- Summary Inc_Ex'!G51 -> 67541.67 | G25: ='A- Summary Inc_Ex'!H51 -> 0.35764718 | H25: ='A- Summary Inc_Ex'!O51 -> 196850 | I25: =H25-D25 -> 8000 | J25: =(H25-D25)/D25 -> 0.042361663 | K25: ='A- Summary Inc_Ex'!S51 -> 214500
A27: Office Expenses | B27: ='A- Summary Inc_Ex'!C57 -> 124974 | C27: ='A- Summary Inc_Ex'!D57 -> 134597.82 | D27: ='A- Summary Inc_Ex'!E57 -> 131961.22 | E27: ='A- Summary Inc_Ex'!F57 -> 68458.98 | F27: ='A- Summary Inc_Ex'!G57 -> 61595.9 | G27: ='A- Summary Inc_Ex'!H57 -> 0.46677274 | H27: ='A- Summary Inc_Ex'!O57 -> 133961.22 | I27: =H27-D27 -> 2000 | J27: =(H27-D27)/D27 -> 0.015155968 | K27: ='A- Summary Inc_Ex'!S57 -> 138200
A29: Capital Expenditure | B29: ='A- Summary Inc_Ex'!C58 -> 8000 | C29: ='A- Summary Inc_Ex'!D58 -> 365056 | D29: ='A- Summary Inc_Ex'!E58 -> 8000 | E29: ='A- Summary Inc_Ex'!F58 -> 0 | F29: ='A- Summary Inc_Ex'!G58 -> 2149.79 | G29: ='A- Summary Inc_Ex'!H58 -> 0.26872375 | H29: 10150 | I29: =H29-D29 -> 2150 | J29: =(H29-D29)/D29 -> 0.26875 | K29: ='A- Summary Inc_Ex'!S58 -> 11000
A31: Total Office/Administrative | B31: ='A- Summary Inc_Ex'!C59 -> 841796.46 | C31: ='A- Summary Inc_Ex'!D59 -> 1209958.4 | D31: ='A- Summary Inc_Ex'!E59 -> 940251.12 | E31: ='A- Summary Inc_Ex'!F59 -> 433067.15 | F31: ='A- Summary Inc_Ex'!G59 -> 404658.7 | G31: ='A- Summary Inc_Ex'!H59 -> 0.43037301 | H31: =H29+H27+H25+H23 -> 952401.12 | I31: =H31-D31 -> 12150 | J31: =(H31-D31)/D31 -> 0.01292208 | K31: =K29+K27+K25+K23 -> 1079070
A33: Total Revenues | B33: ='A- Summary Inc_Ex'!C61 -> 1918361.6 | C33: ='A- Summary Inc_Ex'!D61 -> 2299700.3 | D33: ='A- Summary Inc_Ex'!E61 -> 2081980 | E33: ='A- Summary Inc_Ex'!F61 -> 1651427.5 | F33: ='A- Summary Inc_Ex'!G61 -> 1708974.7 | G33: ='A- Summary Inc_Ex'!H61 -> 0.82084107 | H33: =H10 -> 2080480 | I33: =H33-D33 -> -1500 | J33: =(H33-D33)/D33 -> -0.00072046802 | K33: =K10 -> 2210703
A34: Less Total Expenses | B34: ='A- Summary Inc_Ex'!C62 -> 1895616.5 | C34: ='A- Summary Inc_Ex'!D62 -> 1975193.2 | D34: ='A- Summary Inc_Ex'!E62 -> 2073751.1 | E34: ='A- Summary Inc_Ex'!F62 -> 792297.85 | F34: ='A- Summary Inc_Ex'!G62 -> 818973.96 | G34: ='A- Summary Inc_Ex'!H62 -> 0.39492394 | H34: =H31+H21 -> 2072001.1 | I34: =H34-D34 -> -1750 | J34: =(H34-D34)/D34 -> -0.0008438814 | K34: =K31+K21 -> 2208570
A36: OSS Net Loss for the Year | B36: ='A- Summary Inc_Ex'!C64 -> 0 | C36: ='A- Summary Inc_Ex'!D64 -> 0 | D36: ='A- Summary Inc_Ex'!E64 -> 0 | E36: ='A- Summary Inc_Ex'!F64 -> 0 | F36: ='A- Summary Inc_Ex'!G64 -> 0
A38: Less Fraud Expneses | B38: ='A- Summary Inc_Ex'!C65 -> 0 | C38: ='A- Summary Inc_Ex'!D65 -> 0 | D38: ='A- Summary Inc_Ex'!E65 -> 0 | E38: ='A- Summary Inc_Ex'!F65 -> 0 | F38: ='A- Summary Inc_Ex'!G65 -> 0
A39: Net Income for year | B39: ='A- Summary Inc_Ex'!C66 -> 22745.158 | C39: ='A- Summary Inc_Ex'!D66 -> 324507.06 | D39: ='A- Summary Inc_Ex'!E66 -> 8228.88 | E39: ='A- Summary Inc_Ex'!F66 -> 859129.6 | F39: ='A- Summary Inc_Ex'!G66 -> 890000.73 | H39: =H33-H34 -> 8478.88 | K39: =K33-K34 -> 2133
A41: Raised Revenues - Private
A42: SPONSORSHIP RAISED | B42: =B8 -> 81000 | C42: =C8 -> 67280.16 | D42: =D8 -> 44000 | E42: =E8 -> 55828.57 | F42: =F8 -> 34235.33
A43: IN KIND REVENUES | B43: ='A- Summary Inc_Ex'!#REF! -> #REF! | C43: ='A- Summary Inc_Ex'!#REF! -> #REF! | D43: ='A- Summary Inc_Ex'!#REF! -> #REF! | E43: ='A- Summary Inc_Ex'!#REF! -> #REF! | F43: ='A- Summary Inc_Ex'!#REF! -> #REF!
A44: Total Raised Revenues | B44: =B42+B43 -> #REF! | C44: =C42+C43 -> #REF! | D44: =D42+D43 -> #REF! | E44: =E42+E43 -> #REF! | F44: =F42+F43 -> #REF!
A45: DB OSS
A46: OSS Revenue Brought Forward from Prev FY | B46: ='A- Summary Inc_Ex'!C79 -> 200000 | C46: ='A- Summary Inc_Ex'!D79 -> 225203 | D46: ='A- Summary Inc_Ex'!E79 -> 160000 | E46: ='A- Summary Inc_Ex'!F79 -> 225203 | F46: ='A- Summary Inc_Ex'!G79 -> 135750
A47: DB Old School Square Revenue | B47: ='A- Summary Inc_Ex'!C80 -> 1090000 | C47: ='A- Summary Inc_Ex'!D80 -> 1242743.3 | D47: ='A- Summary Inc_Ex'!E80 -> 995000 | E47: ='A- Summary Inc_Ex'!F80 -> 590796.65 | F47: ='A- Summary Inc_Ex'!G80 -> 509561.52
A48: DB Beach Old School Expemses | B48: ='A- Summary Inc_Ex'!C81 -> 1239000 | C48: ='A- Summary Inc_Ex'!D81 -> 1332196.4 | D48: ='A- Summary Inc_Ex'!E81 -> 1094500 | E48: ='A- Summary Inc_Ex'!F81 -> 558132.66 | F48: ='A- Summary Inc_Ex'!G81 -> 547179.94
A49: OSS Net Income for the Year | B49: ='A- Summary Inc_Ex'!C76 -> -149000 | C49: ='A- Summary Inc_Ex'!D82 -> 135749.99 | D49: ='A- Summary Inc_Ex'!E82 -> 60500 | E49: ='A- Summary Inc_Ex'!F82 -> 257866.99 | F49: ='A- Summary Inc_Ex'!G82 -> 98131.58

Sheet A- Summary Inc_Ex
A1: DDA FY2026-2027 ADOPTED BUDGET - A
B2: 9.22.2026
B3: A Revenue & Expenses | C3: APPROVED Amended Budget 2024_25 | D3: Final FY 24_25 FYE | E3: FY2025/26 ADOPTED BUDGET | F3: Previous Year toDate 3/31/2025 | G3: FY 25_26 to Date 3/31/2026 | H3: Percentage of Adopted Budget | O3: FY2025/26 AMENDED BUDGET | P3: ='Top Line Rep'!I3 -> Amount of Change | Q3: ='Top Line Rep'!J3 -> Percentage of change | R3: COMMENTS | S3: ='Top Line Rep'!K3 -> FY 2026-2027 ADOPTED BUDGET | T3: NOTES
B4: REVENUES
B5: AD VALOREM TAXES & INTR.
A6: 1 | B6: Ad Valorem Taxes | C6: =1932275387*0.001*95/100 -> 1835661.6 | D6: =SUMIFS(MapFy2024_25!D:D,MapFy2024_25!B:B,'A- Summary Inc_Ex'!B6) -> 1864562.6 | E6: 2037980 | F6: =SUMIFS(MapFy2025_26!E:E,MapFy2025_26!B:B,'A- Summary Inc_Ex'!B6) -> 1594310 | G6: =SUMIFS(MapFy2025_26!D:D,MapFy2025_26!B:B,'A- Summary Inc_Ex'!B6) -> 1673422.6 | H6: =IF(E6=0,"",G6/E6) -> 0.82111828 | I6: 1.0000 Millage Rate | O6: 2037980 | P6: =O6-E6 -> 0 | Q6: =(O6-E6)/O6 -> 0 | S6: 2160703 | T6: .95 of total 1Mil Rev (recommended estimated reconcilliation)
A7: 2 | B7: Interest earned | C7: 1700 | D7: =SUMIFS(MapFy2024_25!D:D,MapFy2024_25!B:B,'A- Summary Inc_Ex'!B7) -> 2801.55 | E7: 0 | F7: =SUMIFS(MapFy2025_26!E:E,MapFy2025_26!B:B,'A- Summary Inc_Ex'!B7) -> 1288.86 | G7: =SUMIFS(MapFy2025_26!D:D,MapFy2025_26!B:B,'A- Summary Inc_Ex'!B7) -> 1316.72 | H7: =IF(E7=0,"",G7/E7) | O7: 0 | P7: =O7-E7 -> 0 | S7: 0
A8: 3 | B8: AD VALOREM TAXES & INTR. | C8: =SUM(C6:C7) -> 1837361.6 | D8: =SUM(D6:D7) -> 1867364.1 | E8: =SUM(E6:E7) -> 2037980 | F8: =SUM(F6:F7) -> 1595598.9 | G8: =SUM(G6:G7) -> 1674739.4 | H8: =IF(E8=0,"",G8/E8) -> 0.82176437 | O8: =SUM(O6:O7) -> 2037980 | P8: =O8-E8 -> 0 | Q8: =(O8-E8)/O8 -> 0 | S8: =SUM(S6:S7) -> 2160703
B9: SPONSORSHIP RAISED | P9: =O9-E9 -> 0
A10: 4 | B10: Sponsorship Income - Marketing | C10: 50000 | D10: =SUMIFS(MapFy2024_25!D:D,MapFy2024_25!B:B,'A- Summary Inc_Ex'!B10) -> 48575 | E10: 24000 | F10: =SUMIFS(MapFy2025_26!E:E,MapFy2025_26!B:B,'A- Summary Inc_Ex'!B10) -> 41600 | G10: =SUMIFS(MapFy2025_26!D:D,MapFy2025_26!B:B,'A- Summary Inc_Ex'!B10) -> 24000 | H10: =IF(E10=0,"",G10/E10) -> 1 | O10: 30000 | P10: =O10-E10 -> 6000 | Q10: =(O10-E10)/O10 -> 0.2 | S10: 40000
A11: 5 | B11: Miscellaneous Income | C11: 16000 | D11: =SUMIFS(MapFy2024_25!D:D,MapFy2024_25!B:B,'A- Summary Inc_Ex'!B11) -> 17730.16 | E11: 10000 | F11: =SUMIFS(MapFy2025_26!E:E,MapFy2025_26!B:B,'A- Summary Inc_Ex'!B11) -> 13253.57 | G11: =SUMIFS(MapFy2025_26!D:D,MapFy2025_26!B:B,'A- Summary Inc_Ex'!B11) -> 7735.33 | H11: =IF(E11=0,"",G11/E11) -> 0.773533 | O11: 10000 | P11: =O11-E11 -> 0 | Q11: =(O11-E11)/O11 -> 0 | S11: 10000
A12: 6 | B12: Downtown Guide Book Income | C12: 15000 | D12: =SUMIFS(MapFy2024_25!D:D,MapFy2024_25!B:B,'A- Summary Inc_Ex'!B12) -> 975 | E12: 10000 | F12: =SUMIFS(MapFy2025_26!E:E,MapFy2025_26!B:B,'A- Summary Inc_Ex'!B12) -> 975 | G12: =SUMIFS(MapFy2025_26!D:D,MapFy2025_26!B:B,'A- Summary Inc_Ex'!B12) -> 2500 | H12: =IF(E12=0,"",G12/E12) -> 0.25 | O12: 2500 | P12: =O12-E12 -> -7500 | Q12: =(O12-E12)/O12 -> -3 | S12: 0
A13: 7 | B13: Howard Alan Events | C13: 0 | D13: =SUMIFS(MapFy2024_25!D:D,MapFy2024_25!B:B,'A- Summary Inc_Ex'!B13) -> 0 | E13: 0 | F13: =SUMIFS(MapFy2025_26!E:E,MapFy2025_26!B:B,'A- Summary Inc_Ex'!B13) -> 0 | G13: =SUMIFS(MapFy2025_26!D:D,MapFy2025_26!B:B,'A- Summary Inc_Ex'!B13) -> 0 | H13: =IF(E13=0,"",G13/E13) | O13: 0 | P13: =O13-E13 -> 0 | S13: 0
A14: 8 | B14: SPONSORSHIP RAISED | C14: =SUM(C10:C13) -> 81000 | D14: =SUM(D10:D13) -> 67280.16 | E14: =SUM(E10:E13) -> 44000 | F14: =SUM(F10:F13) -> 55828.57 | G14: =SUM(G10:G13) -> 34235.33 | H14: =IF(E14=0,"",G14/E14) -> 0.77807568 | O14: =SUM(O10:O13) -> 42500 | P14: =O14-E14 -> -1500 | Q14: =(O14-E14)/O14 -> -0.035294118 | S14: =SUM(S10:S13) -> 50000
B17: Provision of Uncollectable Receivables | D17: 365056
A18: 9 | B18: TOTAL REVENUES | C18: =C8+SUM(C14:C17) -> 1918361.6 | D18: =D8+SUM(D14:D17) -> 2299700.3 | E18: =E8+SUM(E14:E17) -> 2081980 | F18: =F8+SUM(F14:F17) -> 1651427.5 | G18: =G8+SUM(G14:G17) -> 1708974.7 | H18: =IF(E18=0,"",G18/E18) -> 0.82084107 | O18: =O8+SUM(O14:O17) -> 2080480 | P18: =O18-E18 -> -1500 | Q18: =(O18-E18)/O18 -> -0.00072098746 | S18: =S8+SUM(S14:S17) -> 2210703
A19: EXPENDITURES:
B20: DEVELOPMENT DDA DISTRICT ECONOMY
B21: MARKETING DDA DISTRICT
A22: 10 | B22: Downtown Retail & Rest. Guide Book | C22: 12000 | D22: =SUMIFS(MapFy2024_25!D:D,MapFy2024_25!B:B,'A- Summary Inc_Ex'!B22) -> 975.5 | E22: 10000 | F22: =SUMIFS(MapFy2025_26!E:E,MapFy2025_26!B:B,'A- Summary Inc_Ex'!B22) -> 0 | G22: =SUMIFS(MapFy2025_26!D:D,MapFy2025_26!B:B,'A- Summary Inc_Ex'!B22) -> 14419.07 | H22: =IF(E22=0,"",G22/E22) -> 1.441907 | O22: 15000 | P22: =O22-E22 -> 5000 | Q22: =(O22-E22)/O22 -> 0.33333333 | R22: Increase by $5k from Misc Adv (A15) | S22: 10000 | T22: TBD- Document under Review
A23: 11 | B23: Visitor Information Center (Moved item into MKT) | C23: 20000 | D23: 22980 | E23: 28000 | F23: =SUMIFS(MapFy2025_26!E:E,MapFy2025_26!B:B,'A- Summary Inc_Ex'!B23) -> 8347.02 | G23: =SUMIFS(MapFy2025_26!D:D,MapFy2025_26!B:B,'A- Summary Inc_Ex'!B23) -> 6752.93 | H23: =IF(E23=0,"",G23/E23) -> 0.24117607 | O23: 28000 | P23: =O23-E23 -> 0 | Q23: =(O23-E23)/O23 -> 0 | S23: 35000 | T23: Proped renovation of front doors to be inkind
A24: 13 | B24: Website Design & Update | C24: 36000 | D24: =SUMIFS(MapFy2024_25!D:D,MapFy2024_25!B:B,'A- Summary Inc_Ex'!B24) -> 41756.94 | E24: 15000 | F24: =SUMIFS(MapFy2025_26!E:E,MapFy2025_26!B:B,'A- Summary Inc_Ex'!B24) -> 18837.5 | G24: =SUMIFS(MapFy2025_26!D:D,MapFy2025_26!B:B,'A- Summary Inc_Ex'!B24) -> 12983.57 | H24: =IF(E24=0,"",G24/E24) -> 0.86557133 | I24: new website design and implementation | O24: 16000 | P24: =O24-E24 -> 1000 | Q24: =(O24-E24)/O24 -> 0.0625 | S24: 16000
A25: 14 | B25: Public Relations & Communication | C25: 42000 | D25: =SUMIFS(MapFy2024_25!D:D,MapFy2024_25!B:B,'A- Summary Inc_Ex'!B25) -> 42000 | E25: 43500 | F25: =SUMIFS(MapFy2025_26!E:E,MapFy2025_26!B:B,'A- Summary Inc_Ex'!B25) -> 21000 | G25: =SUMIFS(MapFy2025_26!D:D,MapFy2025_26!B:B,'A- Summary Inc_Ex'!B25) -> 21000 | H25: =IF(E25=0,"",G25/E25) -> 0.48275862 | O25: 43500 | P25: =O25-E25 -> 0 | Q25: =(O25-E25)/O25 -> 0 | S25: 44000
A26: 15 | B26: Misc Advertising | C26: 6000 | D26: =SUMIFS(MapFy2024_25!D:D,MapFy2024_25!B:B,'A- Summary Inc_Ex'!B26) -> 6342.14 | E26: 10000 | F26: =SUMIFS(MapFy2025_26!E:E,MapFy2025_26!B:B,'A- Summary Inc_Ex'!B26) -> 6342.14 | G26: =SUMIFS(MapFy2025_26!D:D,MapFy2025_26!B:B,'A- Summary Inc_Ex'!B26) -> 1276.48 | H26: =IF(E26=0,"",G26/E26) -> 0.127648 | I26: Summer Advertising | O26: 6000 | P26: =O26-E26 -> -4000 | Q26: =(O26-E26)/O26 -> -0.66666667 | R26: Reduce by 4k to be closer to actual spend | S26: 6000 | T26: Winter & Summer
A27: 16 | B27: DDA Program Marketing Totals | C27: ='B- Marketing & Adverts'!C27 -> 136500 | D27: ='B- Marketing & Adverts'!D27 -> 139286.29 | E27: ='B- Marketing & Adverts'!E27 -> 147500 | F27: ='B- Marketing & Adverts'!F27 -> 61969.85 | G27: ='B- Marketing & Adverts'!G27 -> 69579.67 | H27: =IF(E27=0,"",G27/E27) -> 0.47172658 | O27: ='B- Marketing & Adverts'!J27 -> 159600 | P27: =O27-E27 -> 12100 | Q27: =(O27-E27)/O27 -> 0.075814536 | S27: ='B- Marketing & Adverts'!M27 -> 154500
A28: 17 | B28: TOTAL MARKETING DDA DISTRICT | C28: =SUM(C22:C27) -> 252500 | D28: =SUM(D22:D27) -> 253340.87 | E28: =SUM(E22:E27) -> 254000 | F28: =SUM(F22:F27) -> 116496.51 | G28: =SUM(G22:G27) -> 126011.72 | H28: =IF(E28=0,"",G28/E28) -> 0.49610913 | O28: =O27+O26+O25+O24+O23+O22 -> 268100 | P28: =O28-E28 -> 14100 | Q28: =(O28-E28)/O28 -> 0.052592316 | S28: =S27+S26+S25+S24+S23+S22 -> 265500
A29: 18 | B29: ECONOMIC VITALITY / DEVELOPMENT | C29: ='C- Economic Vitality'!C12 -> 227000 | D29: ='C- Economic Vitality'!D12 -> 37986.91 | E29: 262500 | F29: ='C- Economic Vitality'!F12 -> 18250 | G29: ='C- Economic Vitality'!G12 -> 23131 | H29: =IF(E29=0,"",G29/E29) -> 0.088118095 | O29: ='C- Economic Vitality'!K12 -> 299500 | P29: =O29-E29 -> 37000 | Q29: =(O29-E29)/O29 -> 0.12353923 | S29: ='C- Economic Vitality'!O12 -> 291000
A30: 19 | B30: PLACEMAKING/CLEAN AND SAFE | C30: ='D-Placemaking '!C13 -> 526320 | D30: ='D-Placemaking '!D13 -> 465307 | E30: 597000 | F30: ='D-Placemaking '!F13 -> 217884.19 | G30: ='D-Placemaking '!G13 -> 257477.54 | H30: =IF(E30=0,"",G30/E30) -> 0.43128566 | O30: ='D-Placemaking '!J13 -> 532000 | P30: =O30-E30 -> -65000 | Q30: =(O30-E30)/O30 -> -0.12218045 | S30: ='D-Placemaking '!N13 -> 555000
A31: oss | B31: Delray Beach Old School Square | P31: =O31-E31 -> 0
A32: 20 | B32: TOTAL DEVELOPMENT DDA DISTRICT ECONOMY | C32: =SUM(C28:C30) -> 1005820 | D32: =SUM(D28:D30) -> 756634.78 | E32: 1113500 | F32: =SUM(F28:F30) -> 352630.7 | G32: =SUM(G28:G30) -> 406620.26 | H32: =IF(E32=0,"",G32/E32) -> 0.36517311 | O32: =O30+O29+O28 -> 1099600 | P32: =O32-E32 -> -13900 | Q32: =(O32-E32)/O32 -> -0.01264096 | S32: =S30+S29+S28 -> 1111500 | T32: =S32-O32 -> 11900
A33: 21 | B33: TOTAL DDA DISTRICT GRANTS | C33: 18000 | D33: =SUMIFS(MapFy2024_25!D:D,MapFy2024_25!B:B,'A- Summary Inc_Ex'!B33) -> 8600 | E33: 20000 | F33: =SUMIFS(MapFy2025_26!E:E,MapFy2025_26!B:B,'A- Summary Inc_Ex'!B33) -> 6600 | G33: =SUMIFS(MapFy2025_26!D:D,MapFy2025_26!B:B,'A- Summary Inc_Ex'!B33) -> 7695 | H33: =IF(E33=0,"",G33/E33) -> 0.38475 | O33: 20000 | P33: =O33-E33 -> 0 | Q33: =(O33-E33)/O33 -> 0 | S33: 18000
A34: DDA | B34: Downtown Camera Project | C34: 30000 | D34: =SUMIFS(MapFy2024_25!D:D,MapFy2024_25!B:B,'A- Summary Inc_Ex'!B34) -> 0 | E34: 0 | F34: =SUMIFS(MapFy2025_26!E:E,MapFy2025_26!B:B,'A- Summary Inc_Ex'!B34) -> 0 | G34: =SUMIFS(MapFy2025_26!D:D,MapFy2025_26!B:B,'A- Summary Inc_Ex'!B34) -> 0 | H34: =IF(E34=0,"",G34/E34) | O34: 0 | P34: =O34-E34 -> 0 | S34: 0
A35: 22 | B35: TOTAL BUSINESS DEVELOPMENT | C35: =SUM(C32:C34) -> 1053820 | D35: =SUM(D32:D34) -> 765234.78 | E35: =SUM(E32:E34) -> 1133500 | F35: =SUM(F32:F34) -> 359230.7 | G35: =SUM(G32:G34) -> 414315.26 | H35: =IF(E35=0,"",G35/E35) -> 0.36551854 | O35: =O33+O32 -> 1119600 | P35: =O35-E35 -> -13900 | Q35: =(O35-E35)/O35 -> -0.012415148 | S35: =S33+S32 -> 1129500 | T35: =S35-O35 -> 9900
B36: Expenditures Office/Administrative
A37: 23 | B37: DDA Payroll | C37: 435658 | D37: 455375 | E37: 457440.9 | F37: =SUMIFS(MapFy2025_26!E:E,MapFy2025_26!B:B,'A- Summary Inc_Ex'!B37) -> 227849.48 | G37: =SUMIFS(MapFy2025_26!D:D,MapFy2025_26!B:B,'A- Summary Inc_Ex'!B37) -> 223503.6 | H37: =IF(E37=0,"",G37/E37) -> 0.48859558 | I37: Includes payroll increases and addition of the VIC Manager removed from the VIC Line Item | O37: 457440.9 | P37: =O37-E37 -> 0 | Q37: =(O37-E37)/O37 -> 0 | S37: 563200 | T37: Based on the recommended increase proposed
A38: 24 | B38: P/R Taxes,SUTA,FUTA | C38: 64694.07 | D38: =SUMIFS(MapFy2024_25!D:D,MapFy2024_25!B:B,'A- Summary Inc_Ex'!B38) -> 35466.51 | E38: 68499 | F38: =SUMIFS(MapFy2025_26!E:E,MapFy2025_26!B:B,'A- Summary Inc_Ex'!B38) -> 17934.94 | G38: =SUMIFS(MapFy2025_26!D:D,MapFy2025_26!B:B,'A- Summary Inc_Ex'!B38) -> 17392.32 | H38: =IF(E38=0,"",G38/E38) -> 0.25390619 | O38: 68499 | P38: =O38-E38 -> 0 | Q38: =(O38-E38)/O38 -> 0 | S38: 49000
A39: 25 | B39: Health Insurance | C39: 43835 | D39: =SUMIFS(MapFy2024_25!D:D,MapFy2024_25!B:B,'A- Summary Inc_Ex'!B39) -> 35948.4 | E39: 48000 | F39: =SUMIFS(MapFy2025_26!E:E,MapFy2025_26!B:B,'A- Summary Inc_Ex'!B39) -> 18623.01 | G39: =SUMIFS(MapFy2025_26!D:D,MapFy2025_26!B:B,'A- Summary Inc_Ex'!B39) -> 20403.46 | H39: =IF(E39=0,"",G39/E39) -> 0.42507208 | I39: based on lst year budget +4% | O39: 48000 | P39: =O39-E39 -> 0 | Q39: =(O39-E39)/O39 -> 0 | S39: 52000
A40: 26 | B40: Worker's Comp, Ins | C40: 2140 | D40: =SUMIFS(MapFy2024_25!D:D,MapFy2024_25!B:B,'A- Summary Inc_Ex'!B40) -> 2233 | E40: 2500 | F40: =SUMIFS(MapFy2025_26!E:E,MapFy2025_26!B:B,'A- Summary Inc_Ex'!B40) -> 1674.75 | G40: =SUMIFS(MapFy2025_26!D:D,MapFy2025_26!B:B,'A- Summary Inc_Ex'!B40) -> 1155.5 | H40: =IF(E40=0,"",G40/E40) -> 0.4622 | O40: 2500 | P40: =O40-E40 -> 0 | Q40: =(O40-E40)/O40 -> 0 | S40: 3500
A41: 27 | B41: Retirement | C41: 30611.39 | D41: =SUMIFS(MapFy2024_25!D:D,MapFy2024_25!B:B,'A- Summary Inc_Ex'!B41) -> 22438.54 | E41: 35000 | F41: =SUMIFS(MapFy2025_26!E:E,MapFy2025_26!B:B,'A- Summary Inc_Ex'!B41) -> 11522.08 | G41: =SUMIFS(MapFy2025_26!D:D,MapFy2025_26!B:B,'A- Summary Inc_Ex'!B41) -> 10916.46 | H41: =IF(G41=0,"",G41/E41) -> 0.31189886 | I41: Retirement based on 4% increase as of OCT 1 2024 all Employees except BJ | O41: 35000 | P41: =O41-E41 -> 0 | Q41: =(O41-E41)/O41 -> 0 | S41: 47670
A42: 28 | B42: Payroll Expenses Total | C42: =SUM(C37:C41) -> 576938.46 | D42: =SUM(D37:D41) -> 551461.45 | E42: =SUM(E37:E41) -> 611439.9 | F42: =SUM(F37:F41) -> 277604.26 | G42: =SUM(G37:G41) -> 273371.34 | H42: =G42/E42 -> 0.44709438 | O42: =SUM(O37:O41) -> 611439.9 | P42: 0 | Q42: =(O42-E42)/O42 -> 0 | S42: =SUM(S37:S41) -> 715370 | T42: =S42-O42 -> 103930.1
...

Sheet B- Marketing & Adverts
A1: DBDDA FISCAL YEAR 2026-2027 ADOPTED BUDGET - MARKETING PAGE B
B2: 9.22.2026
B3: B MARKETING DDA DISTRICT TOTAL | C3: ='A- Summary Inc_Ex'!C3 -> APPROVED Amended Budget 2024_25 | D3: ='A- Summary Inc_Ex'!D3 -> Final FY 24_25 FYE | E3: ='A- Summary Inc_Ex'!E3 -> FY2025/26 ADOPTED BUDGET | F3: ='A- Summary Inc_Ex'!F3 -> Previous Year toDate 3/31/2025 | G3: ='A- Summary Inc_Ex'!G3 -> FY 25_26 to Date 3/31/2026 | H3: ='A- Summary Inc_Ex'!H3 -> Percentage of Adopted Budget | J3: ADOPTED AMENDED BUDGET | K3: ='A- Summary Inc_Ex'!P3 -> Amount of Change | L3: ='A- Summary Inc_Ex'!Q3 -> Percentage of change | M3: ='Top Line Rep'!K3 -> FY 2026-2027 ADOPTED BUDGET | N3: NOTES
B4: CREATIVE DESIGN & PRINTING
A5: 1 | B5: All Creative | C5: 50000 | D5: =SUMIFS(MapFy2024_25!D:D,MapFy2024_25!B:B,'B- Marketing & Adverts'!B5) -> 57851.77 | E5: 50000 | F5: =SUMIFS(MapFy2025_26!E:E,MapFy2025_26!B:B,'B- Marketing & Adverts'!B5) -> 28875 | G5: =SUMIFS(MapFy2025_26!D:D,MapFy2025_26!B:B,'B- Marketing & Adverts'!B5) -> 29871.84 | H5: =IF(E5=0,"",G5/E5) -> 0.5974368 | J5: 50000 | K5: =J5-E5 -> 0 | L5: =(J5-E5)/J5 -> 0 | M5: 55000 | N5: Graphic Design - DDA programming
A6: 2 | B6: Printing - Brochure | C6: 5000 | D6: =SUMIFS(MapFy2024_25!D:D,MapFy2024_25!B:B,'B- Marketing & Adverts'!B6) -> 5754.36 | E6: 10000 | F6: =SUMIFS(MapFy2025_26!E:E,MapFy2025_26!B:B,'B- Marketing & Adverts'!B6) -> 1419.95 | G6: =SUMIFS(MapFy2025_26!D:D,MapFy2025_26!B:B,'B- Marketing & Adverts'!B6) -> 1722.41 | H6: =IF(E6=0,"",G6/E6) -> 0.172241 | J6: 10000 | K6: =J6-E6 -> 0 | L6: =(J6-E6)/J6 -> 0 | M6: 10000 | N6: Collateral/Rack Brochures
A7: 3 | B7: TOTAL | C7: =SUM(C5:C6) -> 55000 | D7: =SUM(D5:D6) -> 63606.13 | E7: =SUM(E5:E6) -> 60000 | F7: =SUM(F5:F6) -> 30294.95 | G7: =SUM(G5:G6) -> 31594.25 | H7: =IF(E7=0,"",G7/E7) -> 0.52657083 | J7: =SUM(J5:J6) -> 60000 | K7: =J7-E7 -> 0 | L7: =(J7-E7)/J7 -> 0 | M7: =SUM(M5:M6) -> 65000
A8: 4 | B8: LOCAL PRINT ADVERTISING
A9: 5 | B9: Newspapers | C9: 6000 | D9: =SUMIFS(MapFy2024_25!D:D,MapFy2024_25!B:B,'B- Marketing & Adverts'!B9) -> 5175.4 | E9: 10000 | F9: =SUMIFS(MapFy2025_26!E:E,MapFy2025_26!B:B,'B- Marketing & Adverts'!B9) -> 1575 | G9: =SUMIFS(MapFy2025_26!D:D,MapFy2025_26!B:B,'B- Marketing & Adverts'!B9) -> 1200 | H9: =IF(E9=0,"",G9/E9) -> 0.12 | J9: 15000 | K9: =J9-E9 -> 5000 | L9: =(J9-E9)/J9 -> 0.33333333 | M9: 10000 | N9: Coastal Star/Newspaper
A10: 6 | B10: TOTAL | C10: =SUM(C9) -> 6000 | D10: =SUM(D9) -> 5175.4 | E10: =SUM(E9) -> 10000 | F10: =SUM(F9) -> 1575 | G10: =SUM(G9) -> 1200 | H10: =IF(E10=0,"",G10/E10) -> 0.12 | J10: =SUM(J9) -> 15000 | K10: =J10-E10 -> 5000 | L10: =(J10-E10)/J10 -> 0.33333333 | M10: =SUM(M9) -> 10000
A11: 7 | B11: DIGITAL ADVERTISING
A12: 8 | B12: Social Media & Online advertising | C12: 50000 | D12: =SUMIFS(MapFy2024_25!D:D,MapFy2024_25!B:B,'B- Marketing & Adverts'!B12) -> 53011.86 | E12: 52000 | F12: =SUMIFS(MapFy2025_26!E:E,MapFy2025_26!B:B,'B- Marketing & Adverts'!B12) -> 26599.9 | G12: =SUMIFS(MapFy2025_26!D:D,MapFy2025_26!B:B,'B- Marketing & Adverts'!B12) -> 25211.22 | H12: =IF(E12=0,"",G12/E12) -> 0.48483115 | J12: 57000 | K12: =J12-E12 -> 5000 | L12: =(J12-E12)/J12 -> 0.087719298 | M12: 50000 | N12: Digital Ads/Paid Social
A13: 9 | B13: TOTAL | C13: =SUM(C12) -> 50000 | D13: =SUM(D12) -> 53011.86 | E13: =SUM(E12) -> 52000 | F13: =SUM(F12) -> 26599.9 | G13: =SUM(G12) -> 25211.22 | H13: =IF(E13=0,"",G13/E13) -> 0.48483115 | J13: =SUM(J12) -> 57000 | K13: =J13-E13 -> 5000 | L13: =(J13-E13)/J13 -> 0.087719298 | M13: =SUM(M12) -> 50000
A14: 10 | B14: MEDIA ADVERTISING
A15: 11 | B15: TV Commercial advertising | C15: 15000 | D15: =SUMIFS(MapFy2024_25!D:D,MapFy2024_25!B:B,'B- Marketing & Adverts'!B15) -> 6120 | E15: 15000 | F15: =SUMIFS(MapFy2025_26!E:E,MapFy2025_26!B:B,'B- Marketing & Adverts'!B15) -> 0 | G15: =SUMIFS(MapFy2025_26!D:D,MapFy2025_26!B:B,'B- Marketing & Adverts'!B15) -> 4831.78 | H15: =IF(E15=0,"",G15/E15) -> 0.32211867 | J15: 15000 | K15: =J15-E15 -> 0 | L15: =(J15-E15)/J15 -> 0 | M15: 12000 | N15: Summer Ads
A16: 12 | B16: Video Production | C16: 5000 | D16: =SUMIFS(MapFy2024_25!D:D,MapFy2024_25!B:B,'B- Marketing & Adverts'!B16) -> 7872.9 | E16: 5000 | F16: =SUMIFS(MapFy2025_26!E:E,MapFy2025_26!B:B,'B- Marketing & Adverts'!B16) -> 1000 | G16: =SUMIFS(MapFy2025_26!D:D,MapFy2025_26!B:B,'B- Marketing & Adverts'!B16) -> 611 | H16: =IF(E16=0,"",G16/E16) -> 0.1222 | J16: 5000 | K16: =J16-E16 -> 0 | L16: =(J16-E16)/J16 -> 0 | M16: 5000 | N16: Video Development
A17: 13 | B17: TOTAL | C17: =SUM(C15:C16) -> 20000 | D17: =SUM(D15:D16) -> 13992.9 | E17: =SUM(E15:E16) -> 20000 | F17: =SUM(F15:F16) -> 1000 | G17: =SUM(G15:G16) -> 5442.78 | H17: =IF(E17=0,"",G17/E17) -> 0.272139 | J17: =SUM(J15:J16) -> 20000 | K17: =J17-E17 -> 0 | L17: =(J17-E17)/J17 -> 0 | M17: =SUM(M15:M16) -> 17000
A18: 14 | B18: TOTAL MONTHLY CAMPAIGN | C18: =C7+C10+C13+C17 -> 131000 | D18: =D7+D10+D13+D17 -> 135786.29 | E18: =E17+E13+E10+E7 -> 142000 | F18: =F7+F10+F13+F17 -> 59469.85 | G18: =G7+G10+G13+G17 -> 63448.25 | H18: =IF(E18=0,"",G18/E18) -> 0.44681866 | J18: =J17+J13+J10+J7 -> 152000 | K18: =J18-E18 -> 10000 | M18: =M17+M13+M10+M7 -> 142000
A19: 15 | B19: LOCAL/REGIONAL/NTL PUBLICATIONS
A20: 16 | B20: Delray Beach Magazine | C20: 2500 | D20: =SUMIFS(MapFy2024_25!D:D,MapFy2024_25!B:B,'B- Marketing & Adverts'!B20) -> 2500 | E20: 2500 | F20: =SUMIFS(MapFy2025_26!E:E,MapFy2025_26!B:B,'B- Marketing & Adverts'!B20) -> 2500 | G20: =SUMIFS(MapFy2025_26!D:D,MapFy2025_26!B:B,'B- Marketing & Adverts'!B20) -> 2500 | H20: =IF(E20=0,"",G20/E20) -> 1 | J20: 2500 | K20: =J20-E20 -> 0 | L20: =(J20-E20)/J20 -> 0 | M20: 2500 | N20: Savor Ad
A21: 17 | B21: Boca Magazine | C21: 0 | D21: =SUMIFS(MapFy2024_25!D:D,MapFy2024_25!B:B,'B- Marketing & Adverts'!B21) -> 0 | F21: =SUMIFS(MapFy2025_26!E:E,MapFy2025_26!B:B,'B- Marketing & Adverts'!B21) -> 0 | G21: =SUMIFS(MapFy2025_26!D:D,MapFy2025_26!B:B,'B- Marketing & Adverts'!B21) -> 0 | H21: =IF(E21=0,"",G21/E21) | I21: Remove Savor the Ave Ad from Boca Mag
A22: 18 | B22: Other Publications | C22: 3000 | D22: =SUMIFS(MapFy2024_25!D:D,MapFy2024_25!B:B,'B- Marketing & Adverts'!B22) -> 1000 | E22: 3000 | F22: =SUMIFS(MapFy2025_26!E:E,MapFy2025_26!B:B,'B- Marketing & Adverts'!B22) -> 0 | G22: =SUMIFS(MapFy2025_26!D:D,MapFy2025_26!B:B,'B- Marketing & Adverts'!B22) -> 3071.42 | H22: =IF(E22=0,"",G22/E22) -> 1.0238067 | J22: 3100 | K22: =J22-E22 -> 100 | L22: =(J22-E22)/J22 -> 0.032258065 | M22: 8000 | N22: Delray Book
A23: 20 | B23: Visit Florida Annual Trav. Magazine/Coop | C23: 0 | D23: =SUMIFS(MapFy2024_25!D:D,MapFy2024_25!B:B,'B- Marketing & Adverts'!B23) -> 0 | E23: 0 | F23: =SUMIFS(MapFy2025_26!E:E,MapFy2025_26!B:B,'B- Marketing & Adverts'!B23) -> 0 | G23: =SUMIFS(MapFy2025_26!D:D,MapFy2025_26!B:B,'B- Marketing & Adverts'!B23) -> 560 | H23: =IF(E23=0,"",G23/E23) | J23: 2000 | K23: =J23-E23 -> 2000 | L23: =(J23-E23)/J23 -> 1 | M23: 2000 | N23: Discover/VisitFLA
A24: 21 | B24: TOTAL | C24: =SUM(C20:C23) -> 5500 | D24: =SUM(D20:D23) -> 3500 | E24: =SUM(E20:E23) -> 5500 | F24: =SUM(F20:F23) -> 2500 | G24: =SUM(G20:G23) -> 6131.42 | H24: =IF(E24=0,"",G24/E24) -> 1.1148036 | J24: =SUM(J20:J23) -> 7600 | K24: =J24-E24 -> 2100 | L24: =(J24-E24)/J24 -> 0.27631579 | M24: =SUM(M20:M23) -> 12500
A25: 22 | B25: DOWNTOWN PROGRAMS and EVENTS | C25: 0 | I25: Move line item to ECONOMIC VITALITY - C | K25: =J25-E25 -> 0 | L25: =(J25-E25)/J25 -> #DIV/0!
A26: 23 | B26: Marketing Expense Miscellaneous | F26: =SUMIFS(MapFy2025_26!E:E,MapFy2025_26!B:B,'B- Marketing & Adverts'!B26) -> 0 | H26: =IF(E26=0,"",G26/E26) | I26: For unique marketing expenses not in other marketing
A27: 24 | B27: DDA PROGRAM MARKETING TOTALS | C27: =C18+C24+SUM(C25:C26) -> 136500 | D27: =D18+D24+SUM(D25:D26) -> 139286.29 | E27: =E24+E18 -> 147500 | F27: =F18+F24+SUM(F25:F26) -> 61969.85 | G27: =G18+G24+SUM(G25:G26) -> 69579.67 | H27: =IF(E27=0,"",G27/E27) -> 0.47172658 | J27: =J24+J18 -> 159600 | K27: =J27-E27 -> 12100 | L27: =(J27-E27)/J27 -> 0.075814536 | M27: =M24+M18 -> 154500
A28: 25 | B28: LESS EXPS - SPONSOR TO BE RAISED | C28: =-'A- Summary Inc_Ex'!C14 -> -81000 | D28: =-'A- Summary Inc_Ex'!D14 -> -67280.16 | E28: =-'A- Summary Inc_Ex'!E14 -> -44000 | F28: =-'A- Summary Inc_Ex'!F14 -> -55828.57 | G28: =-'A- Summary Inc_Ex'!G14 -> -34235.33 | J28: =-'A- Summary Inc_Ex'!J14 -> 0 | M28: =-'A- Summary Inc_Ex'!M14 -> 0
A29: 26 | B29: TOT MARKETING DDA DISTRICT EXPENSES BUDGET | C29: =SUM(C27:C28) -> 55500 | D29: =SUM(D27:D28) -> 72006.13 | E29: =SUM(E27:E28) -> 103500 | F29: =SUM(F27:F28) -> 6141.28 | G29: =SUM(G27:G28) -> 35344.34 | H29: =IF(E29=0,"",G29/E29) -> 0.34149121 | J29: =SUM(J27:J28) -> 159600 | K29: =J29-E29 -> 56100 | L29: =(J29-E29)/J29 -> 0.35150376 | M29: =SUM(M27:M28) -> 154500

Sheet C- Economic Vitality
A1: ECONOMIC VITALITY -PAGE C FY26/27 PROPOSED BUDGET
B2: 9.22.2026 | C2: ='A- Summary Inc_Ex'!C2 -> 0
B3: C ECONOMIC VITALITY AND DOWNTOWN DEVELOPMENT | C3: ='A- Summary Inc_Ex'!C3 -> APPROVED Amended Budget 2024_25 | D3: ='A- Summary Inc_Ex'!D3 -> Final FY 24_25 FYE | E3: ='A- Summary Inc_Ex'!E3 -> FY2025/26 ADOPTED BUDGET | F3: ='A- Summary Inc_Ex'!F3 -> Previous Year toDate 3/31/2025 | G3: ='A- Summary Inc_Ex'!G3 -> FY 25_26 to Date 3/31/2026 | H3: ='A- Summary Inc_Ex'!H3 -> Percentage of Adopted Budget | K3: ADOPTED AMENDED BUDGET | L3: ='B- Marketing & Adverts'!K3 -> Amount of Change | M3: ='B- Marketing & Adverts'!L3 -> Percentage of change | N3: COMMENTS | O3: ='Top Line Rep'!K3 -> FY 2026-2027 ADOPTED BUDGET | P3: NOTES
B4: DETAIL ITEMS
A5: 1 | B5: Annual Report | C5: 3500 | D5: =SUMIFS(MapFy2024_25!D:D,MapFy2024_25!B:B,'C- Economic Vitality'!B5) -> 387.6 | E5: 3500 | F5: =SUMIFS(MapFy2025_26!E:E,MapFy2025_26!B:B,'C- Economic Vitality'!B5) -> 0 | G5: =SUMIFS(MapFy2025_26!D:D,MapFy2025_26!B:B,'C- Economic Vitality'!B5) -> 0 | H5: =G5/E5 -> 0 | K5: 3500 | L5: =K5-E5 -> 0 | M5: =(K5-E5)/K5 -> 0 | O5: 3500 | P5: Production and Mailing
A6: 2 | B6: Email Messaging (B2B) | C6: 4500 | D6: =SUMIFS(MapFy2024_25!D:D,MapFy2024_25!B:B,'C- Economic Vitality'!B6) -> 6040 | E6: 4000 | F6: =SUMIFS(MapFy2025_26!E:E,MapFy2025_26!B:B,'C- Economic Vitality'!B6) -> 2475 | G6: =SUMIFS(MapFy2025_26!D:D,MapFy2025_26!B:B,'C- Economic Vitality'!B6) -> 2380 | H6: =G6/E6 -> 0.595 | K6: 4000 | L6: =K6-E6 -> 0 | M6: =(K6-E6)/K6 -> 0 | O6: 2500 | P6: Platform expense
A7: 3 | B7: Business Developmant Materials | C7: 8000 | D7: =SUMIFS(MapFy2024_25!D:D,MapFy2024_25!B:B,'C- Economic Vitality'!B7) -> 10174.31 | E7: 25000 | F7: =SUMIFS(MapFy2025_26!E:E,MapFy2025_26!B:B,'C- Economic Vitality'!B7) -> 0 | G7: =SUMIFS(MapFy2025_26!D:D,MapFy2025_26!B:B,'C- Economic Vitality'!B7) -> 6081 | H7: =G7/E7 -> 0.24324 | K7: 35000 | L7: =K7-E7 -> 10000 | M7: =(K7-E7)/K7 -> 0.28571429 | N7: increase to cover the production of the Merchant Handbook | O7: 20000 | P7: Materials and Consultant Fees
A8: 4 | B8: Database and Inventory Management | C8: 18000 | D8: =SUMIFS(MapFy2024_25!D:D,MapFy2024_25!B:B,'C- Economic Vitality'!B8) -> 16925 | E8: 20000 | F8: =SUMIFS(MapFy2025_26!E:E,MapFy2025_26!B:B,'C- Economic Vitality'!B8) -> 15675 | G8: =SUMIFS(MapFy2025_26!D:D,MapFy2025_26!B:B,'C- Economic Vitality'!B8) -> 12625 | H8: =G8/E8 -> 0.63125 | K8: 17000 | L8: =K8-E8 -> -3000 | M8: =(K8-E8)/K8 -> -0.17647059 | N8: reduce 3k and move to C 3 | O8: 30000 | P8: PLACER.AI + Datafy & Ginkgo?
A9: 5 | B9: Research and Development Plans | C9: 8000 | D9: =SUMIFS(MapFy2024_25!D:D,MapFy2024_25!B:B,'C- Economic Vitality'!B9) -> 4460 | E9: 15000 | F9: =SUMIFS(MapFy2025_26!E:E,MapFy2025_26!B:B,'C- Economic Vitality'!B9) -> 100 | G9: =SUMIFS(MapFy2025_26!D:D,MapFy2025_26!B:B,'C- Economic Vitality'!B9) -> 2045 | H9: =G9/E9 -> 0.13633333 | K9: 20000 | L9: =K9-E9 -> 5000 | M9: =(K9-E9)/K9 -> 0.25 | N9: Increase for Beautification Task Force consultant | O9: 15000 | P9: Stat Plan Consultant - hopefully
A10: 6 | B10: Visitor Information Center | I10: Move to Marketing expense to under Downtown Guide Book | J10: =SUM(D5:D9) -> 37986.91
A11: 7 | B11: DOWNTOWN PROGRAMS and EVENTS (Includes programs for Libby Wesley) Continue Same Programming or Change - BRING BACK FASHION WEEK??? | C11: 185000 | D11: =SUMIFS(MapFy2024_25!D:D,MapFy2024_25!B:B,'C- Economic Vitality'!B11) -> 0 | E11: 195000 | F11: =SUMIFS(MapFy2025_26!E:E,MapFy2025_26!B:B,'C- Economic Vitality'!B11) -> 0 | G11: =SUMIFS(MapFy2025_26!D:D,MapFy2025_26!B:B,'C- Economic Vitality'!B11) -> 0 | H11: =G11/E11 -> 0 | I11: Recommend to move B22 to Economic Vitality | K11: 220000 | L11: =K11-E11 -> 25000 | M11: =(K11-E11)/K11 -> 0.11363636 | N11: Move Libby Plaza D7 25k to C7 to cover Summer Libby Wesley Plaza Events | O11: 220000 | P11: Event Logistic Costs: Art/Jazz Savor the Ave (40,000) Sounds of the Set (6 times per year = $36k) Art Walk ($6000) Tree Lighting ($10k) Orichid Giveaway($6000) Shop Small ($1000) Restaurant Month ($1000) Art & Jazz ($90,000) Centennial Event - 2027 ($30,000)
B12: TOTAL ECONOMIC VITALITY | C12: =SUM(C5:C11) -> 227000 | D12: =SUM(D5:D11) -> 37986.91 | E12: =SUM(E5:E11) -> 262500 | F12: =SUM(F5:F11) -> 18250 | G12: =SUM(G5:G11) -> 23131 | H12: =IF(E12=0,"",G12/E12) -> 0.088118095 | K12: =SUM(K5:K11) -> 299500 | L12: =K12-E12 -> 37000 | M12: =(K12-E12)/K12 -> 0.12353923 | O12: =SUM(O5:O11) -> 291000

Sheet D-Placemaking 
A1: PLACEMAKING CLEAN AND SAFE PAGE D FISCAL YEARY 2026-2027 PROPOSED BUDGET
B2: 9.22.2026 | C2: ='A- Summary Inc_Ex'!C2 -> 0
B3: D PLACEMAKING | C3: ='A- Summary Inc_Ex'!C3 -> APPROVED Amended Budget 2024_25 | D3: ='A- Summary Inc_Ex'!D3 -> Final FY 24_25 FYE | E3: ='A- Summary Inc_Ex'!E3 -> FY2025/26 ADOPTED BUDGET | F3: ='A- Summary Inc_Ex'!F3 -> Previous Year toDate 3/31/2025 | G3: ='A- Summary Inc_Ex'!G3 -> FY 25_26 to Date 3/31/2026 | H3: ='A- Summary Inc_Ex'!H3 -> Percentage of Adopted Budget | I3: NOTES | J3: ADOPTED AMENDED BUDGET | K3: ='A- Summary Inc_Ex'!P3 -> Amount of Change | L3: ='A- Summary Inc_Ex'!Q3 -> Percentage of change | M3: COMMENTS | N3: ='Top Line Rep'!K3 -> FY 2026-2027 ADOPTED BUDGET | O3: NOTES
B4: DETAIL ITEMS
A5: 1 | B5: Street Pole Banner Management | C5: 40000 | D5: 34459 | E5: 45000 | F5: =SUMIFS(MapFy2025_26!E:E,MapFy2025_26!B:B,'D-Placemaking '!B5) -> 10216 | G5: =SUMIFS(MapFy2025_26!D:D,MapFy2025_26!B:B,'D-Placemaking '!B5) -> 33711.79 | H5: =IF(E5=0,"",G5/E5) -> 0.74915089 | I5: Additional PG Banners, West Settlers Banners, Welcome and SET banners - JULY 4th - NEW | J5: 50000 | K5: =J5-E5 -> 5000 | L5: =(J5-E5)/J5 -> 0.1 | M5: Increase by 5k from Holiday Lighting | N5: 50000 | O5: New Centennial banners - call to artist; SET banner & Welcome Banner & Blue Flag Banners replacements
A6: 2 | B6: Decorative Lighting Annual program | C6: 55000 | D6: =SUMIFS(MapFy2024_25!D:D,MapFy2024_25!B:B,'D-Placemaking '!B6) -> 47611.5 | E6: 52000 | F6: =SUMIFS(MapFy2025_26!E:E,MapFy2025_26!B:B,'D-Placemaking '!B6) -> 32128.5 | G6: =SUMIFS(MapFy2025_26!D:D,MapFy2025_26!B:B,'D-Placemaking '!B6) -> 51487.5 | H6: =IF(E6=0,"",G6/E6) -> 0.99014423 | I6: Replacement Lighting West Atlantic Ave and Pineapple Grove Arts District | J6: 58000 | K6: =J6-E6 -> 6000 | L6: =(J6-E6)/J6 -> 0.10344828 | M6: increase 6K due to replacement pineapple grove lighting | N6: 51000 | O6: Atlantic Ave Oaks, Beachside and Pineapple Grove payment
A7: 3 | B7: Holiday Lighting | C7: 28320 | D7: =SUMIFS(MapFy2024_25!D:D,MapFy2024_25!B:B,'D-Placemaking '!B7) -> 28320 | E7: 40000 | F7: =SUMIFS(MapFy2025_26!E:E,MapFy2025_26!B:B,'D-Placemaking '!B7) -> 28320 | G7: =SUMIFS(MapFy2025_26!D:D,MapFy2025_26!B:B,'D-Placemaking '!B7) -> 23000 | H7: =IF(E7=0,"",G7/E7) -> 0.575 | I7: Enhance Lighting for Libby Wesley Plaza | J7: 30000 | K7: =J7-E7 -> -10000 | L7: =(J7-E7)/J7 -> -0.33333333 | M7: Reduce by 10k (move 5k to D1) | N7: 40000 | O7: New Holiday Lights
A8: 4 | B8: Downtown Safety Ambassador Program | C8: 330000 | D8: =SUMIFS(MapFy2024_25!D:D,MapFy2024_25!B:B,'D-Placemaking '!B8) -> 313281.5 | E8: 340000 | F8: =SUMIFS(MapFy2025_26!E:E,MapFy2025_26!B:B,'D-Placemaking '!B8) -> 127094.69 | G8: =SUMIFS(MapFy2025_26!D:D,MapFy2025_26!B:B,'D-Placemaking '!B8) -> 132273.58 | H8: =IF(E8=0,"",G8/E8) -> 0.38903994 | J8: 330000 | K8: =J8-E8 -> -10000 | L8: =(J8-E8)/J8 -> -0.03030303 | M8: Reduce by 10k | N8: 330000 | O8: Program enhancements
A9: 5 | B9: Downtown Parking | C9: 8000 | D9: =SUMIFS(MapFy2024_25!D:D,MapFy2024_25!B:B,'D-Placemaking '!B9) -> 0 | E9: 18000 | F9: =SUMIFS(MapFy2025_26!E:E,MapFy2025_26!B:B,'D-Placemaking '!B9) -> 0 | G9: =SUMIFS(MapFy2025_26!D:D,MapFy2025_26!B:B,'D-Placemaking '!B9) -> 0 | H9: =IF(E9=0,"",G9/E9) -> 0 | J9: 12000 | K9: =J9-E9 -> -6000 | L9: =(J9-E9)/J9 -> -0.5 | M9: reduce by 6k and move to lighting budget (D2) | N9: 12000 | O9: Marketing/Communication strategy/Signage
A10: 6 | B10: Signage and Kiosks | C10: 5000 | D10: =SUMIFS(MapFy2024_25!D:D,MapFy2024_25!B:B,'D-Placemaking '!B10) -> 4735 | E10: 12000 | F10: =SUMIFS(MapFy2025_26!E:E,MapFy2025_26!B:B,'D-Placemaking '!B10) -> 3175 | G10: =SUMIFS(MapFy2025_26!D:D,MapFy2025_26!B:B,'D-Placemaking '!B10) -> 1325 | H10: =IF(E10=0,"",G10/E10) -> 0.11041667 | J10: 12000 | K10: =J10-E10 -> 0 | L10: =(J10-E10)/J10 -> 0 | N10: 15000 | O10: Clean up old signage
A11: 7 | B11: Downtown Beautification - Clean/ Amenities/Public Art | C11: 40000 | D11: =SUMIFS(MapFy2024_25!D:D,MapFy2024_25!B:B,'D-Placemaking '!B11) -> 36900 | E11: 65000 | F11: =SUMIFS(MapFy2025_26!E:E,MapFy2025_26!B:B,'D-Placemaking '!B11) -> 16950 | G11: =SUMIFS(MapFy2025_26!D:D,MapFy2025_26!B:B,'D-Placemaking '!B11) -> 15679.67 | H11: =IF(E11=0,"",G11/E11) -> 0.24122569 | J11: 40000 | K11: =J11-E11 -> -25000 | L11: =(J11-E11)/J11 -> -0.625 | M11: reduce by 15k move to Marketing Downtown (B5) | N11: 42000 | O11: Beautification Task Force/Veterans Park - Utilize Reserves to support project
A12: 8 | B12: Libby Wesley Plaza ART INSTALL | C12: 20000 | D12: =SUMIFS(MapFy2024_25!D:D,MapFy2024_25!B:B,'D-Placemaking '!B12) -> 0 | E12: 25000 | G12: =SUMIFS(MapFy2025_26!D:D,MapFy2025_26!B:B,'D-Placemaking '!B12) -> 0 | H12: =IF(E12=0,"",G12/E12) -> 0 | I12: (Programming, Beautification) | J12: 0 | K12: =J12-E12 -> -25000 | M12: Move this 25k fund to C7 for Libby Wesley Plaza Activations | N12: 15000 | O12: Art installation - Winter plan
B13: TOTAL PLACEMAKING | C13: =SUM(C5:C12) -> 526320 | D13: =SUM(D5:D12) -> 465307 | E13: =SUM(E5:E12) -> 597000 | F13: =SUM(F5:F12) -> 217884.19 | G13: =SUM(G5:G12) -> 257477.54 | H13: =G13/E13 -> 0.43128566 | J13: =SUM(J5:J12) -> 532000 | K13: =J13-E13 -> -65000 | L13: =(J13-E13)/J13 -> -0.12218045 | N13: =SUM(N5:N12) -> 555000

Sheet DB OSS
A1: Delray Beach Old School Square Fiscal Year 2026-2027 ADOPTED BUDGET
B2: as of 9.22.2026 | C2: ='A- Summary Inc_Ex'!C2 -> 0
C3: ='A- Summary Inc_Ex'!C3 -> APPROVED Amended Budget 2024_25 | D3: ='A- Summary Inc_Ex'!D3 -> Final FY 24_25 FYE | E3: ='A- Summary Inc_Ex'!E3 -> FY2025/26 ADOPTED BUDGET | F3: ='A- Summary Inc_Ex'!F3 -> Previous Year toDate 3/31/2025 | G3: ='A- Summary Inc_Ex'!G3 -> FY 25_26 to Date 3/31/2026 | H3: ='A- Summary Inc_Ex'!H3 -> Percentage of Adopted Budget | O3: ADOPTED AMENDMENT -BUDGET | P3: ='A- Summary Inc_Ex'!P3 -> Amount of Change | Q3: ='A- Summary Inc_Ex'!Q3 -> Percentage of change | R3: COMMENTS | S3: ='Top Line Rep'!K3 -> FY 2026-2027 ADOPTED BUDGET | T3: OPTION 2 | U3: NOTES
A4: OSS# | B4: Revenues
A5: 1 | B5: Funding | C5: 800000 | D5: =SUMIFS(MapFy2024_25!D:D,MapFy2024_25!B:B,'DB OSS'!B5) -> 800000 | E5: 700000 | F5: =SUMIFS(MapFy2025_26!E:E,MapFy2025_26!B:B,'DB OSS'!B5) -> 400000 | G5: =SUMIFS(MapFy2025_26!D:D,MapFy2025_26!B:B,'DB OSS'!B5) -> 350000 | H5: =IF(E5=0,"",G5/E5) -> 0.5 | O5: 700000 | P5: =O5-E5 -> 0 | Q5: =(O5-E5)/O5 -> 0 | S5: 800000 | T5: 800000 | U5: REQUIRE MORE FUNDING TO FULFILL MISSION
A6: 2 | B6: Donations | C6: 25000 | D6: =SUMIFS(MapFy2024_25!D:D,MapFy2024_25!B:B,'DB OSS'!B6) -> 38245.76 | E6: 25000 | F6: =SUMIFS(MapFy2025_26!E:E,MapFy2025_26!B:B,'DB OSS'!B6) -> 20352.75 | G6: =SUMIFS(MapFy2025_26!D:D,MapFy2025_26!B:B,'DB OSS'!B6) -> 15502.5 | H6: =IF(E6=0,"",G6/E6) -> 0.6201 | O6: 20000 | P6: =O6-E6 -> -5000 | Q6: =(O6-E6)/O6 -> -0.25 | S6: 20000 | T6: 20000
A7: 3 | B7: Sponsorship | C7: 10000 | D7: =SUMIFS(MapFy2024_25!D:D,MapFy2024_25!B:B,'DB OSS'!B7) -> 7012 | E7: 10000 | F7: =SUMIFS(MapFy2025_26!E:E,MapFy2025_26!B:B,'DB OSS'!B7) -> 3000 | G7: =SUMIFS(MapFy2025_26!D:D,MapFy2025_26!B:B,'DB OSS'!B7) -> 1000 | H7: =IF(E7=0,"",G7/E7) -> 0.1 | O7: 6000 | P7: =O7-E7 -> -4000 | Q7: =(O7-E7)/O7 -> -0.66666667 | S7: 10000 | T7: 10000
A8: 4 | B8: Venue Rentals | C8: 60000 | D8: =SUMIFS(MapFy2024_25!D:D,MapFy2024_25!B:B,'DB OSS'!B8) -> 71416.02 | E8: 50000 | F8: =SUMIFS(MapFy2025_26!E:E,MapFy2025_26!B:B,'DB OSS'!B8) -> 51490.74 | G8: =SUMIFS(MapFy2025_26!D:D,MapFy2025_26!B:B,'DB OSS'!B8) -> 40812.5 | H8: =IF(E8=0,"",G8/E8) -> 0.81625 | O8: 42000 | P8: =O8-E8 -> -8000 | Q8: =(O8-E8)/O8 -> -0.19047619 | S8: 60000 | T8: 60000
A9: 5 | B9: OSS Program Income | C9: 180000 | D9: =SUMIFS(MapFy2024_25!D:D,MapFy2024_25!B:B,'DB OSS'!B9) -> 310522.74 | E9: 200000 | F9: =SUMIFS(MapFy2025_26!E:E,MapFy2025_26!B:B,'DB OSS'!B9) -> 105033.71 | G9: =SUMIFS(MapFy2025_26!D:D,MapFy2025_26!B:B,'DB OSS'!B9) -> 91183.81 | H9: =IF(E9=0,"",G9/E9) -> 0.45591905 | I9: (Ticket Sales, Concession, Vendor Fees) | O9: 100000 | P9: =O9-E9 -> -100000 | Q9: =(O9-E9)/O9 -> -1 | S9: 150000 | T9: 150000
A10: 6 | B10: Museum Store | C10: 15000 | D10: =SUMIFS(MapFy2024_25!D:D,MapFy2024_25!B:B,'DB OSS'!B10) -> 15546.82 | E10: 10000 | F10: =SUMIFS(MapFy2025_26!E:E,MapFy2025_26!B:B,'DB OSS'!B10) -> 10919.45 | G10: =SUMIFS(MapFy2025_26!D:D,MapFy2025_26!B:B,'DB OSS'!B10) -> 11062.71 | H10: =IF(E10=0,"",G10/E10) -> 1.106271 | N10: =SUM(D6:D10) -> 442743.34 | O10: 10000 | P10: =O10-E10 -> 0 | Q10: =(O10-E10)/O10 -> 0 | S10: 10000 | T10: 10000
B11: Income Carried Forward | F11: =SUMIFS(MapFy2025_26!E:E,MapFy2025_26!B:B,'DB OSS'!B11) -> 0 | O11: 100000 | P11: =O11-E11 -> 100000 | Q11: =(O11-E11)/O11 -> 1 | S11: 0 | T11: 0
A13: =A10+1 -> 7 | B13: Total Revenues: | C13: =SUM(C5:C12) -> 1090000 | D13: =SUM(D5:D12) -> 1242743.3 | E13: =SUM(E5:E12) -> 995000 | F13: =SUM(F5:F12) -> 590796.65 | G13: =SUM(G5:G12) -> 509561.52 | H13: =G13/E13 -> 0.51212213 | O13: =SUM(O5:O12) -> 978000 | P13: =O13-E13 -> -17000 | Q13: =(O13-E13)/O13 -> -0.017382413 | S13: =SUM(S5:S12) -> 1050000 | T13: =SUM(T5:T12) -> 1050000
B15: EXPENSES
B16: OPERATIONS
A17: =A13+1 -> 8 | B17: Event/Campus Coordinator | C17: 55000 | D17: =SUMIFS(MapFy2024_25!D:D,MapFy2024_25!B:B,'DB OSS'!B17) -> 61022.24 | E17: 68000 | F17: =SUMIFS(MapFy2025_26!E:E,MapFy2025_26!B:B,'DB OSS'!B17) -> 28377.92 | G17: =SUMIFS(MapFy2025_26!D:D,MapFy2025_26!B:B,'DB OSS'!B17) -> 30343.93 | H17: =IF(E17=0,"",G17/E17) -> 0.44623426 | O17: 68000 | P17: =O17-E17 -> 0 | Q17: =(O17-E17)/O17 -> 0 | S17: 71000 | T17: 71000
A18: =A17+1 -> 9 | B18: Cultural Arts Director | C18: 100000 | D18: =SUMIFS(MapFy2024_25!D:D,MapFy2024_25!B:B,'DB OSS'!B18) -> 102919.36 | E18: 110000 | F18: =SUMIFS(MapFy2025_26!E:E,MapFy2025_26!B:B,'DB OSS'!B18) -> 49934.78 | G18: =SUMIFS(MapFy2025_26!D:D,MapFy2025_26!B:B,'DB OSS'!B18) -> 54926.6 | H18: =IF(E18=0,"",G18/E18) -> 0.49933273 | O18: 110000 | P18: =O18-E18 -> 0 | Q18: =(O18-E18)/O18 -> 0 | S18: 115000 | T18: 115000
A19: =A18+1 -> 10 | B19: Cornell Part Time Staff Member | C19: 48000 | D19: =SUMIFS(MapFy2024_25!D:D,MapFy2024_25!B:B,'DB OSS'!B19) -> 50321 | E19: 50000 | F19: =SUMIFS(MapFy2025_26!E:E,MapFy2025_26!B:B,'DB OSS'!B19) -> 24714.75 | G19: =SUMIFS(MapFy2025_26!D:D,MapFy2025_26!B:B,'DB OSS'!B19) -> 34322.5 | H19: =IF(E19=0,"",G19/E19) -> 0.68645 | O19: 50000 | P19: =O19-E19 -> 0 | Q19: =(O19-E19)/O19 -> 0 | S19: 45000 | T19: 50000
A20: =A19+1 -> 11 | B20: DDA Team Management | C20: 10000 | D20: =SUMIFS(MapFy2024_25!D:D,MapFy2024_25!B:B,'DB OSS'!B20) -> 14123.68 | E20: 12000 | F20: =SUMIFS(MapFy2025_26!E:E,MapFy2025_26!B:B,'DB OSS'!B20) -> 3014.2 | G20: =SUMIFS(MapFy2025_26!D:D,MapFy2025_26!B:B,'DB OSS'!B20) -> 0 | H20: =IF(E20=0,"",G20/E20) -> 0 | O20: 5000 | P20: =O20-E20 -> -7000 | Q20: =(O20-E20)/O20 -> -1.4 | R20: reduce by 7k | S20: 10000 | T20: 15000
A21: =A20+1 -> 12 | B21: Special Events Manager | C21: 65000 | D21: =SUMIFS(MapFy2024_25!D:D,MapFy2024_25!B:B,'DB OSS'!B21) -> 67718.42 | E21: 65000 | F21: =SUMIFS(MapFy2025_26!E:E,MapFy2025_26!B:B,'DB OSS'!B21) -> 28099.22 | G21: =SUMIFS(MapFy2025_26!D:D,MapFy2025_26!B:B,'DB OSS'!B21) -> 29000 | H21: =IF(E21=0,"",G21/E21) -> 0.44615385 | O21: 65000 | P21: =O21-E21 -> 0 | Q21: =(O21-E21)/O21 -> 0 | S21: 68000 | T21: 68000
B22: TOTAL PAYROLL | C22: =SUM(C17:C21) -> 278000 | D22: =SUM(D17:D21) -> 296104.7 | E22: =SUM(E17:E21) -> 305000 | F22: =SUM(F17:F21) -> 134140.87 | G22: =SUM(G17:G21) -> 148593.03 | H22: =IF(E22=0,"",G22/E22) -> 0.48719026 | O22: =SUM(O17:O21) -> 298000 | P22: =O22-E22 -> -7000 | Q22: =(O22-E22)/O22 -> -0.023489933 | S22: =SUM(S17:S21) -> 309000 | T22: =SUM(T17:T21) -> 319000
A24: =A21+1 -> 13 | B24: Other Contract Staff | C24: 25000 | D24: =SUMIFS(MapFy2024_25!D:D,MapFy2024_25!B:B,'DB OSS'!B24) -> 19431.72 | E24: 20000 | F24: =SUMIFS(MapFy2025_26!E:E,MapFy2025_26!B:B,'DB OSS'!B24) -> 4882.5 | G24: =SUMIFS(MapFy2025_26!D:D,MapFy2025_26!B:B,'DB OSS'!B24) -> 5612.5 | H24: =IF(E24=0,"",G24/E24) -> 0.280625 | O24: 10000 | P24: =O24-E24 -> -10000 | Q24: =(O24-E24)/O24 -> -1 | R24: reduce by 10k | S24: 50000 | T24: 55000 | U24: Additional Marketing Staff
A25: =A24+1 -> 14 | B25: Campus Security (Ambassadors) | C25: 25000 | D25: =SUMIFS(MapFy2024_25!D:D,MapFy2024_25!B:B,'DB OSS'!B25) -> 25784.24 | E25: 20000 | F25: =SUMIFS(MapFy2025_26!E:E,MapFy2025_26!B:B,'DB OSS'!B25) -> 3233.3 | G25: =SUMIFS(MapFy2025_26!D:D,MapFy2025_26!B:B,'DB OSS'!B25) -> 1879.63 | H25: =IF(E25=0,"",G25/E25) -> 0.0939815 | O25: 12000 | P25: =O25-E25 -> -8000 | Q25: =(O25-E25)/O25 -> -0.66666667 | R25: reduce by 8k | S25: 10000 | T25: 15000
A26: =A25+1 -> 15 | B26: Administrative and Facility Expenses | C26: 95000 | D26: =SUMIFS(MapFy2024_25!D:D,MapFy2024_25!B:B,'DB OSS'!B26) -> 127505.83 | E26: 68000 | F26: =SUMIFS(MapFy2025_26!E:E,MapFy2025_26!B:B,'DB OSS'!B26) -> 63070.5 | G26: =SUMIFS(MapFy2025_26!D:D,MapFy2025_26!B:B,'DB OSS'!B26) -> 59769.54 | H26: =IF(E26=0,"",G26/E26) -> 0.87896382 | K26: Administrative | O26: 68000 | P26: =O26-E26 -> 0 | Q26: =(O26-E26)/O26 -> 0 | S26: 65000 | T26: 70000
A27: =A26+1 -> 16 | B27: Equipment Costs | C27: 10000 | D27: =SUMIFS(MapFy2024_25!D:D,MapFy2024_25!B:B,'DB OSS'!B27) -> 3473.83 | E27: 8000 | F27: =SUMIFS(MapFy2025_26!E:E,MapFy2025_26!B:B,'DB OSS'!B27) -> 2907.42 | G27: =SUMIFS(MapFy2025_26!D:D,MapFy2025_26!B:B,'DB OSS'!B27) -> 3942.73 | H27: =IF(E27=0,"",G27/E27) -> 0.49284125 | O27: 4000 | P27: =O27-E27 -> -4000 | Q27: =(O27-E27)/O27 -> -1 | R27: reduce by 4k | S27: 4000 | T27: 4000
A28: =A27+1 -> 17 | B28: Additional Insurance | C28: 3000 | D28: =SUMIFS(MapFy2024_25!D:D,MapFy2024_25!B:B,'DB OSS'!B28) -> 2104.16 | E28: 3500 | F28: =SUMIFS(MapFy2025_26!E:E,MapFy2025_26!B:B,'DB OSS'!B28) -> 0 | G28: =SUMIFS(MapFy2025_26!D:D,MapFy2025_26!B:B,'DB OSS'!B28) -> 0 | H28: =IF(E28=0,"",G28/E28) -> 0 | O28: 2500 | P28: =O28-E28 -> -1000 | Q28: =(O28-E28)/O28 -> -0.4 | R28: actual expence | S28: 2500 | T28: 2500
A29: =A28+1 -> 18 | B29: TOTAL ADMINISTRATION: | C29: =SUM(C24:C28) -> 158000 | D29: =SUM(D24:D28) -> 178299.78 | E29: =SUM(E24:E28) -> 119500 | F29: =SUM(F24:F28) -> 74093.72 | G29: =SUM(G24:G28) -> 71204.4 | H29: =IF(E29=0,"",G29/E29) -> 0.59585272 | O29: =SUM(O24:O28) -> 96500 | P29: =O29-E29 -> -23000 | Q29: =(O29-E29)/O29 -> -0.23834197 | S29: =SUM(S24:S28) -> 131500 | T29: =SUM(T24:T28) -> 146500
B30: TOTAL OPERATIONS: | C30: =C29+C22 -> 436000 | D30: =D29+D22 -> 474404.48 | E30: =E29+E22 -> 424500 | F30: =F29+F22 -> 208234.59 | G30: =G29+G22 -> 219797.43 | H30: =IF(E30=0,"",G30/E30) -> 0.51777958 | O30: =O29+O22 -> 394500 | P30: =O30-E30 -> -30000 | Q30: =(O30-E30)/O30 -> -0.076045627 | S30: =S29+S22 -> 440500 | T30: =T29+T22 -> 465500
B31: MARKETING
A32: =A29+1 -> 19 | B32: Marketing | C32: 22000 | D32: =SUMIFS(MapFy2024_25!D:D,MapFy2024_25!B:B,'DB OSS'!B32) -> 44693.37 | E32: 20000 | F32: =SUMIFS(MapFy2025_26!E:E,MapFy2025_26!B:B,'DB OSS'!B32) -> 7550 | G32: =SUMIFS(MapFy2025_26!D:D,MapFy2025_26!B:B,'DB OSS'!B32) -> 18047.58 | H32: =IF(E32=0,"",G32/E32) -> 0.902379 | K32: Marketing Agency for Rebrand | O32: 20000 | P32: =O32-E32 -> 0 | Q32: =(O32-E32)/O32 -> 0 | S32: 20000 | T32: 20000
A33: =A32+1 -> 20 | B33: New Website | C33: 8000 | D33: =SUMIFS(MapFy2024_25!D:D,MapFy2024_25!B:B,'DB OSS'!B33) -> 3150.87 | E33: 10000 | F33: =SUMIFS(MapFy2025_26!E:E,MapFy2025_26!B:B,'DB OSS'!B33) -> 180 | G33: =SUMIFS(MapFy2025_26!D:D,MapFy2025_26!B:B,'DB OSS'!B33) -> 892.81 | H33: =IF(E33=0,"",G33/E33) -> 0.089281 | O33: 10000 | P33: =O33-E33 -> 0 | Q33: =(O33-E33)/O33 -> 0 | S33: 10000 | T33: 10000
A34: =A33+1 -> 21 | B34: Creative | C34: 40000 | D34: =SUMIFS(MapFy2024_25!D:D,MapFy2024_25!B:B,'DB OSS'!B34) -> 16863.25 | E34: 40000 | F34: =SUMIFS(MapFy2025_26!E:E,MapFy2025_26!B:B,'DB OSS'!B34) -> 10007.83 | G34: =SUMIFS(MapFy2025_26!D:D,MapFy2025_26!B:B,'DB OSS'!B34) -> 26658.72 | H34: =IF(E34=0,"",G34/E34) -> 0.666468 | O34: 40000 | P34: =O34-E34 -> 0 | Q34: =(O34-E34)/O34 -> 0 | S34: 35000 | T34: 35000
A35: =A34+1 -> 22 | B35: Printing | C35: 15000 | D35: =SUMIFS(MapFy2024_25!D:D,MapFy2024_25!B:B,'DB OSS'!B35) -> 14376.12 | E35: 12000 | F35: =SUMIFS(MapFy2025_26!E:E,MapFy2025_26!B:B,'DB OSS'!B35) -> 9153.24 | G35: =SUMIFS(MapFy2025_26!D:D,MapFy2025_26!B:B,'DB OSS'!B35) -> 2189.88 | H35: =IF(E35=0,"",G35/E35) -> 0.18249 | O35: 5000 | P35: =O35-E35 -> -7000 | Q35: =(O35-E35)/O35 -> -1.4 | R35: reduce by 7k | S35: 6000 | T35: 6000
A36: =A35+1 -> 23 | B36: Advertising | C36: 48000 | D36: =SUMIFS(MapFy2024_25!D:D,MapFy2024_25!B:B,'DB OSS'!B36) -> 49841.56 | E36: 42000 | F36: =SUMIFS(MapFy2025_26!E:E,MapFy2025_26!B:B,'DB OSS'!B36) -> 17966.91 | G36: =SUMIFS(MapFy2025_26!D:D,MapFy2025_26!B:B,'DB OSS'!B36) -> 22449.86 | H36: =IF(E36=0,"",G36/E36) -> 0.53452048 | O36: 35000 | P36: =O36-E36 -> -7000 | Q36: =(O36-E36)/O36 -> -0.2 | R36: reduce by 7k | S36: 30000 | T36: 30000
A37: =A36+1 -> 24 | B37: Public Relations | C37: 48000 | D37: =SUMIFS(MapFy2024_25!D:D,MapFy2024_25!B:B,'DB OSS'!B37) -> 49500 | E37: 35000 | F37: =SUMIFS(MapFy2025_26!E:E,MapFy2025_26!B:B,'DB OSS'!B37) -> 24000 | G37: =SUMIFS(MapFy2025_26!D:D,MapFy2025_26!B:B,'DB OSS'!B37) -> 16500 | H37: =IF(E37=0,"",G37/E37) -> 0.47142857 | O37: 35000 | P37: =O37-E37 -> 0 | Q37: =(O37-E37)/O37 -> 0 | S37: 35000 | T37: 35000
A38: =A37+1 -> 25 | B38: TOTAL MARKETING: | C38: =SUM(C32:C37) -> 181000 | D38: =SUM(D32:D37) -> 178425.17 | E38: =SUM(E32:E37) -> 159000 | F38: =SUM(F32:F37) -> 68857.98 | G38: =SUM(G32:G37) -> 86738.85 | H38: =IF(E38=0,"",G38/E38) -> 0.54552736 | O38: =SUM(O32:O37) -> 145000 | P38: =O38-E38 -> -14000 | Q38: =(O38-E38)/O38 -> -0.096551724 | S38: =SUM(S32:S37) -> 136000 | T38: =SUM(T32:T37) -> 136000
B39: CORNELL EXHIBITIONS/ACTIVATIONS
A40: =A38+1 -> 26 | B40: Museum Store Expenses | C40: 3000 | D40: =SUMIFS(MapFy2024_25!D:D,MapFy2024_25!B:B,'DB OSS'!B40) -> 873.43 | E40: 3000 | F40: =SUMIFS(MapFy2025_26!E:E,MapFy2025_26!B:B,'DB OSS'!B40) -> 567.63 | G40: =SUMIFS(MapFy2025_26!D:D,MapFy2025_26!B:B,'DB OSS'!B40) -> 477.24 | H40: =IF(E40=0,"",G40/E40) -> 0.15908 | K40: Surfing Museum | O40: 1000 | P40: =O40-E40 -> -2000 | Q40: =(O40-E40)/O40 -> -2 | R40: Reduce by 2k | S40: 5000 | T40: 1000
A41: =A40+1 -> 27 | B41: Rotating Exibitions | C41: 0 | F41: =SUMIFS(MapFy2025_26!E:E,MapFy2025_26!B:B,'DB OSS'!B41) -> 0 | G41: =SUMIFS(MapFy2025_26!D:D,MapFy2025_26!B:B,'DB OSS'!B41) -> 750 | K41: #Lovedelray Exhibition
A42: =A41+1 -> 28 | B42: Museum Activations (events and activations) | C42: 85000 | D42: =SUMIFS(MapFy2024_25!D:D,MapFy2024_25!B:B,'DB OSS'!B42) -> 83155.47 | E42: 80000 | F42: =SUMIFS(MapFy2025_26!E:E,MapFy2025_26!B:B,'DB OSS'!B42) -> 49008.98 | G42: =SUMIFS(MapFy2025_26!D:D,MapFy2025_26!B:B,'DB OSS'!B42) -> 26766.58 | H42: =IF(E42=0,"",G42/E42) -> 0.33458225 | K42: Events And Activations | O42: 75000 | P42: =O42-E42 -> -5000 | Q42: =(O42-E42)/O42 -> -0.066666667 | R42: reduce by 5k | S42: 80000 | T42: 75000
A43: 29 | B43: Exhibition (Combined Rotating and New) | C43: 30000 | D43: =SUMIFS(MapFy2024_25!D:D,MapFy2024_25!B:B,'DB OSS'!B43) -> 27742.55 | E43: 20000 | F43: =SUMIFS(MapFy2025_26!E:E,MapFy2025_26!B:B,'DB OSS'!B43) -> 20729 | G43: =SUMIFS(MapFy2025_26!D:D,MapFy2025_26!B:B,'DB OSS'!B43) -> 19391.9 | H43: =IF(E43=0,"",G43/E43) -> 0.969595 | O43: 22000 | P43: =O43-E43 -> 2000 | Q43: =(O43-E43)/O43 -> 0.090909091 | R43: increase by 2k | S43: 30000 | T43: 25000
...

Sheet Cash Flow
A1: Downtown Development Authority Preliminary Available Funds at 3/31/2026
A2: ='A- Summary Inc_Ex'!B2 -> 9.22.2026
C4: ='Top Line Rep'!#REF! -> #REF! | D4: ='Top Line Rep'!B3 -> APPROVED Amended Budget 2024_25 | E4: ='Top Line Rep'!C3 -> Final FY 24_25 FYE | F4: ='A- Summary Inc_Ex'!E3 -> FY2025/26 ADOPTED BUDGET | G4: ='A- Summary Inc_Ex'!F3 -> Previous Year toDate 3/31/2025 | H4: ='A- Summary Inc_Ex'!G3 -> FY 25_26 to Date 3/31/2026
A6: Equity B/ Forward October 1st | D6: =-54683.29+71078.41+543598.84+340063.25 -> 900057.21 | E6: =-54683.29+71078.41+543598.84+340063.25 -> 900057.21 | F6: =E16 -> 901629.26 | G6: =E16 -> 901629.26 | H6: =E16 -> 901629.26
A8: To Reassign Liability: OSS Revenue Carried Forward Account to Equity 2/1/2025 | D8: -458685 | E8: -458685
A10: Unrestricte Net Assets Reduced for OSS Funds B/F 3/31/2026 | H10: -135750
A12: (Over)/under spent for period | D12: ='A- Summary Inc_Ex'!C66+'A- Summary Inc_Ex'!C76 -> -126254.84 | E12: ='A- Summary Inc_Ex'!D66+'A- Summary Inc_Ex'!D76 -> 235054.05 | F12: ='A- Summary Inc_Ex'!E66+'A- Summary Inc_Ex'!E76 -> -91271.12 | G12: ='A- Summary Inc_Ex'!F66+'A- Summary Inc_Ex'!F76 -> 891793.59 | H12: ='A- Summary Inc_Ex'!G66+'A- Summary Inc_Ex'!G76 -> 852382.31
A14: OSS Funds B/F | D14: ='A- Summary Inc_Ex'!C69+'A- Summary Inc_Ex'!C79 -> 200000 | E14: ='A- Summary Inc_Ex'!D69+'A- Summary Inc_Ex'!D79 -> 225203 | F14: ='A- Summary Inc_Ex'!E79 -> 160000 | G14: ='A- Summary Inc_Ex'!F69+'A- Summary Inc_Ex'!F79 -> 225203 | H14: ='A- Summary Inc_Ex'!G79 -> 135750
A16: Total Funds carried Forward | D16: =D6+D8+D9+D12+D14 -> 515117.37 | E16: =E6+E8+E9+E12+E14 -> 901629.26 | F16: =F6+F8+F9+F12+F14 -> 970358.14 | G16: =G6+G8+G9+G12+G14 -> 2018625.9 | H16: =H6+H8+H10+H12+H14 -> 1754011.6

Sheet ProgramEventSummary
B1: OSS Event Summary of Expenses | F1: J | I1: Ref
B2: April Free | C2: OSS Events and Activations:April Free | D2: =SUMIFS(ProgramEventDetail!H:H,ProgramEventDetail!E:E,ProgramEventSummary!C2) -> 0 | F2: Total From Detail Sheet | G2: =SUMIFS(ProgramEventDetail!H:H,ProgramEventDetail!A:A,ProgramEventSummary!I2) -> 265145.61 | I2: TOTAL
B3: Art Talk | C3: OSS Events and Activations:Art Talk | D3: =SUMIFS(ProgramEventDetail!H:H,ProgramEventDetail!E:E,ProgramEventSummary!C3) -> 0 | F3: Total OSS Event Summary of Expenses | G3: =-SUMIF(B:B,F3,D:D) -> -155537.81
B4: Art Walk | C4: OSS Events and Activations:Art Walk | D4: =SUMIFS(ProgramEventDetail!H:H,ProgramEventDetail!E:E,ProgramEventSummary!C4) -> 900 | F4: Total DBDDA Progam Summary of Expenses | G4: =-SUMIF(B:B,F4,D:D) -> -109607.8
B5: August Free | C5: OSS Events and Activations:August Free | D5: =SUMIFS(ProgramEventDetail!H:H,ProgramEventDetail!E:E,ProgramEventSummary!C5) -> 0 | F5: Audit Correct if Total = 0.00 | G5: =SUM(G2:G4) -> 0
B6: Concerts | C6: OSS Events and Activations:Concerts | D6: =SUMIFS(ProgramEventDetail!H:H,ProgramEventDetail!E:E,ProgramEventSummary!C6) -> 0
B7: Fall Fest | C7: OSS Events and Activations:Fall Fest | D7: =SUMIFS(ProgramEventDetail!H:H,ProgramEventDetail!E:E,ProgramEventSummary!C7) -> 0
B8: Free Events | C8: OSS Events and Activations:Free Events | D8: =SUMIFS(ProgramEventDetail!H:H,ProgramEventDetail!E:E,ProgramEventSummary!C8) -> 34149.45
B9: General | C9: OSS Events and Activations:General | D9: =SUMIFS(ProgramEventDetail!H:H,ProgramEventDetail!E:E,ProgramEventSummary!C9) -> 10040.51
B10: June Free | C10: OSS Events and Activations:June Free | D10: =SUMIFS(ProgramEventDetail!H:H,ProgramEventDetail!E:E,ProgramEventSummary!C10) -> 0
B11: May Free | C11: OSS Events and Activations:May Free | D11: =SUMIFS(ProgramEventDetail!H:H,ProgramEventDetail!E:E,ProgramEventSummary!C11) -> 0
B12: Music at the Museum | C12: OSS Events and Activations:Music at the Museum | D12: =SUMIFS(ProgramEventDetail!H:H,ProgramEventDetail!E:E,ProgramEventSummary!C12) -> 0
B13: New Exibit | C13: OSS Events and Activations:New Exibit | D13: =SUMIFS(ProgramEventDetail!H:H,ProgramEventDetail!E:E,ProgramEventSummary!C13) -> 503.52
B14: Openning Event | C14: OSS Events and Activations:Openning Event | D14: =SUMIFS(ProgramEventDetail!H:H,ProgramEventDetail!E:E,ProgramEventSummary!C14) -> 0
B15: Previous Year Free Event | C15: OSS Events and Activations:Previous Year Free Event | D15: =SUMIFS(ProgramEventDetail!H:H,ProgramEventDetail!E:E,ProgramEventSummary!C15) -> 0
B16: Ticket Event | C16: OSS Events and Activations:Ticket Event | D16: =SUMIFS(ProgramEventDetail!H:H,ProgramEventDetail!E:E,ProgramEventSummary!C16) -> 99734.23
B17: Vintage Gym Rental | C17: OSS Events and Activations:Vintage Gym Rental | D17: =SUMIFS(ProgramEventDetail!H:H,ProgramEventDetail!E:E,ProgramEventSummary!C17) -> 1460.1
B18: Wellness Wednesday | C18: OSS Events and Activations:Wellness Wednesday | D18: =SUMIFS(ProgramEventDetail!H:H,ProgramEventDetail!E:E,ProgramEventSummary!C18) -> 8750
B19: Total OSS Event Summary of Expenses | D19: =SUM(D2:D18) -> 155537.81
B21: DBDDA Progam Summary of Expenses
B22: 00-General Programs | C22: Programs:00-General Programs | D22: =SUMIFS(ProgramEventDetail!H:H,ProgramEventDetail!E:E,ProgramEventSummary!C22) -> 11417.46
